BEGIN:VCALENDAR
VERSION:2.0
PRODID:-//日本オムニチャネル協会 - ECPv6.15.20//NONSGML v1.0//EN
CALSCALE:GREGORIAN
METHOD:PUBLISH
X-WR-CALNAME:日本オムニチャネル協会
X-ORIGINAL-URL:https://omniassociation.com
X-WR-CALDESC:日本オムニチャネル協会 のイベント
REFRESH-INTERVAL;VALUE=DURATION:PT1H
X-Robots-Tag:noindex
X-PUBLISHED-TTL:PT1H
BEGIN:VTIMEZONE
TZID:Asia/Tokyo
BEGIN:STANDARD
TZOFFSETFROM:+0900
TZOFFSETTO:+0900
TZNAME:JST
DTSTART:20230101T000000
END:STANDARD
END:VTIMEZONE
BEGIN:VEVENT
DTSTART;TZID=Asia/Tokyo:20250219T170000
DTEND;TZID=Asia/Tokyo:20250219T180000
DTSTAMP:20260420T170702
CREATED:20240606T064132Z
LAST-MODIFIED:20240606T064132Z
UID:3437-1739984400-1739988000@omniassociation.com
SUMMARY:DX実践セミナー『ロジスティクス分科会：どうなった2024年問題！？（仮）』
DESCRIPTION:一般参加可能！ 実践者から生の知見を学べるオープンセミナー\n \nオープンセミナーでは協会の活動内容報告のみならず、DXの推進を目的に開催しております。\n様々なDXの有識者お呼びし、生のDXの知見を聴き、話し合うことで、最高の刺激を受けることができる場です。 \n詳細は「DXマガジン」をご確認ください。
URL:https://omniassociation.com/event/dx%e5%ae%9f%e8%b7%b5%e3%82%bb%e3%83%9f%e3%83%8a%e3%83%bc%e3%80%8e%e3%83%ad%e3%82%b8%e3%82%b9%e3%83%86%e3%82%a3%e3%82%af%e3%82%b9%e5%88%86%e7%a7%91%e4%bc%9a%ef%bc%9a%e3%81%a9%e3%81%86%e3%81%aa%e3%81%a3
CATEGORIES:オープンセミナー
END:VEVENT
BEGIN:VEVENT
DTSTART;TZID=Asia/Tokyo:20250205T170000
DTEND;TZID=Asia/Tokyo:20250205T183000
DTSTAMP:20260420T170702
CREATED:20240606T065840Z
LAST-MODIFIED:20240606T065840Z
UID:3455-1738774800-1738780200@omniassociation.com
SUMMARY:DX経営セミナー
DESCRIPTION:一般参加可能！ 実践者から生の知見を学べるオープンセミナー\n \nオープンセミナーでは協会の活動内容報告のみならず、DXの推進を目的に開催しております。\n様々なDXの有識者お呼びし、生のDXの知見を聴き、話し合うことで、最高の刺激を受けることができる場です。 \n詳細は「DXマガジン」をご確認ください。
URL:https://omniassociation.com/event/dx%e7%b5%8c%e5%96%b6%e3%82%bb%e3%83%9f%e3%83%8a%e3%83%bc-6
CATEGORIES:オープンセミナー
END:VEVENT
BEGIN:VEVENT
DTSTART;TZID=Asia/Tokyo:20250122T170000
DTEND;TZID=Asia/Tokyo:20250122T183000
DTSTAMP:20260420T170702
CREATED:20240606T063631Z
LAST-MODIFIED:20240606T063631Z
UID:3427-1737565200-1737570600@omniassociation.com
SUMMARY:ITサービスセミナー『従業員支援、教育人手不足、 労働生産性向上にどう取り組むか？』
DESCRIPTION:一般参加可能！ 実践者から生の知見を学べるオープンセミナー\n \nオープンセミナーでは協会の活動内容報告のみならず、DXの推進を目的に開催しております。\n様々なDXの有識者お呼びし、生のDXの知見を聴き、話し合うことで、最高の刺激を受けることができる場です。 \n詳細は「DXマガジン」をご確認ください。
URL:https://omniassociation.com/event/it%e3%82%b5%e3%83%bc%e3%83%93%e3%82%b9%e3%82%bb%e3%83%9f%e3%83%8a%e3%83%bc%e3%80%8e%e5%be%93%e6%a5%ad%e5%93%a1%e6%94%af%e6%8f%b4%e3%80%81%e6%95%99%e8%82%b2%e4%ba%ba%e6%89%8b%e4%b8%8d%e8%b6%b3%e3%80%81
CATEGORIES:オープンセミナー
END:VEVENT
BEGIN:VEVENT
DTSTART;TZID=Asia/Tokyo:20250108T170000
DTEND;TZID=Asia/Tokyo:20250108T183000
DTSTAMP:20260420T170702
CREATED:20240606T065804Z
LAST-MODIFIED:20240606T065804Z
UID:3453-1736355600-1736361000@omniassociation.com
SUMMARY:DX経営セミナー
DESCRIPTION:一般参加可能！ 実践者から生の知見を学べるオープンセミナー\n \nオープンセミナーでは協会の活動内容報告のみならず、DXの推進を目的に開催しております。\n様々なDXの有識者お呼びし、生のDXの知見を聴き、話し合うことで、最高の刺激を受けることができる場です。 \n詳細は「DXマガジン」をご確認ください。
URL:https://omniassociation.com/event/dx%e7%b5%8c%e5%96%b6%e3%82%bb%e3%83%9f%e3%83%8a%e3%83%bc-5
CATEGORIES:オープンセミナー
END:VEVENT
BEGIN:VEVENT
DTSTART;TZID=Asia/Tokyo:20241218T170000
DTEND;TZID=Asia/Tokyo:20241218T183000
DTSTAMP:20260420T170702
CREATED:20240606T064040Z
LAST-MODIFIED:20240606T064040Z
UID:3435-1734541200-1734546600@omniassociation.com
SUMMARY:DX実践セミナー『海外視察報告会（仮）』
DESCRIPTION:一般参加可能！ 実践者から生の知見を学べるオープンセミナー\n \nオープンセミナーでは協会の活動内容報告のみならず、DXの推進を目的に開催しております。\n様々なDXの有識者お呼びし、生のDXの知見を聴き、話し合うことで、最高の刺激を受けることができる場です。 \n詳細は「DXマガジン」をご確認ください。
URL:https://omniassociation.com/event/dx%e5%ae%9f%e8%b7%b5%e3%82%bb%e3%83%9f%e3%83%8a%e3%83%bc%e3%80%8e%e6%b5%b7%e5%a4%96%e8%a6%96%e5%af%9f%e5%a0%b1%e5%91%8a%e4%bc%9a%ef%bc%88%e4%bb%ae%ef%bc%89%e3%80%8f
CATEGORIES:オープンセミナー
END:VEVENT
BEGIN:VEVENT
DTSTART;TZID=Asia/Tokyo:20241204T170000
DTEND;TZID=Asia/Tokyo:20241204T183000
DTSTAMP:20260420T170702
CREATED:20240606T065718Z
LAST-MODIFIED:20240606T065718Z
UID:3451-1733331600-1733337000@omniassociation.com
SUMMARY:DX経営セミナー
DESCRIPTION:一般参加可能！ 実践者から生の知見を学べるオープンセミナー\n \nオープンセミナーでは協会の活動内容報告のみならず、DXの推進を目的に開催しております。\n様々なDXの有識者お呼びし、生のDXの知見を聴き、話し合うことで、最高の刺激を受けることができる場です。 \n詳細は「DXマガジン」をご確認ください。
URL:https://omniassociation.com/event/dx%e7%b5%8c%e5%96%b6%e3%82%bb%e3%83%9f%e3%83%8a%e3%83%bc-4
CATEGORIES:オープンセミナー
END:VEVENT
BEGIN:VEVENT
DTSTART;TZID=Asia/Tokyo:20241120T170000
DTEND;TZID=Asia/Tokyo:20241120T183000
DTSTAMP:20260420T170702
CREATED:20240606T063527Z
LAST-MODIFIED:20240606T063527Z
UID:3425-1732122000-1732127400@omniassociation.com
SUMMARY:ITサービスセミナー『決済・セキュリティ 多様化する決済手段と攻撃からの守り方』
DESCRIPTION:一般参加可能！ 実践者から生の知見を学べるオープンセミナー\n \nオープンセミナーでは協会の活動内容報告のみならず、DXの推進を目的に開催しております。\n様々なDXの有識者お呼びし、生のDXの知見を聴き、話し合うことで、最高の刺激を受けることができる場です。 \n詳細は「DXマガジン」をご確認ください。
URL:https://omniassociation.com/event/it%e3%82%b5%e3%83%bc%e3%83%93%e3%82%b9%e3%82%bb%e3%83%9f%e3%83%8a%e3%83%bc%e3%80%8e%e6%b1%ba%e6%b8%88%e3%83%bb%e3%82%bb%e3%82%ad%e3%83%a5%e3%83%aa%e3%83%86%e3%82%a3-%e5%a4%9a%e6%a7%98%e5%8c%96
CATEGORIES:オープンセミナー
END:VEVENT
BEGIN:VEVENT
DTSTART;TZID=Asia/Tokyo:20241106T170000
DTEND;TZID=Asia/Tokyo:20241106T183000
DTSTAMP:20260420T170702
CREATED:20240606T065925Z
LAST-MODIFIED:20240606T065925Z
UID:3457-1730912400-1730917800@omniassociation.com
SUMMARY:DX経営セミナー
DESCRIPTION:一般参加可能！ 実践者から生の知見を学べるオープンセミナー\n \nオープンセミナーでは協会の活動内容報告のみならず、DXの推進を目的に開催しております。\n様々なDXの有識者お呼びし、生のDXの知見を聴き、話し合うことで、最高の刺激を受けることができる場です。 \n詳細は「DXマガジン」をご確認ください。
URL:https://omniassociation.com/event/dx%e7%b5%8c%e5%96%b6%e3%82%bb%e3%83%9f%e3%83%8a%e3%83%bc-7
CATEGORIES:オープンセミナー
END:VEVENT
BEGIN:VEVENT
DTSTART;TZID=Asia/Tokyo:20241023T170000
DTEND;TZID=Asia/Tokyo:20241023T183000
DTSTAMP:20260420T170702
CREATED:20240606T063950Z
LAST-MODIFIED:20240606T063950Z
UID:3433-1729702800-1729708200@omniassociation.com
SUMMARY:DX実践セミナー『ロイヤルティ分科会：ようやく始まった顧客起点のデータドリブンCRM（仮）』
DESCRIPTION:一般参加可能！ 実践者から生の知見を学べるオープンセミナー\n \nオープンセミナーでは協会の活動内容報告のみならず、DXの推進を目的に開催しております。\n様々なDXの有識者お呼びし、生のDXの知見を聴き、話し合うことで、最高の刺激を受けることができる場です。 \n詳細は「DXマガジン」をご確認ください。
URL:https://omniassociation.com/event/dx%e5%ae%9f%e8%b7%b5%e3%82%bb%e3%83%9f%e3%83%8a%e3%83%bc%e3%80%8e%e3%83%ad%e3%82%a4%e3%83%a4%e3%83%ab%e3%83%86%e3%82%a3%e5%88%86%e7%a7%91%e4%bc%9a%ef%bc%9a%e3%82%88%e3%81%86%e3%82%84%e3%81%8f%e5%a7%8b
CATEGORIES:オープンセミナー
END:VEVENT
BEGIN:VEVENT
DTSTART;TZID=Asia/Tokyo:20241002T170000
DTEND;TZID=Asia/Tokyo:20241002T183000
DTSTAMP:20260420T170702
CREATED:20240606T065637Z
LAST-MODIFIED:20240606T065637Z
UID:3449-1727888400-1727893800@omniassociation.com
SUMMARY:DX経営セミナー
DESCRIPTION:一般参加可能！ 実践者から生の知見を学べるオープンセミナー\n \nオープンセミナーでは協会の活動内容報告のみならず、DXの推進を目的に開催しております。\n様々なDXの有識者お呼びし、生のDXの知見を聴き、話し合うことで、最高の刺激を受けることができる場です。 \n詳細は「DXマガジン」をご確認ください。
URL:https://omniassociation.com/event/dx%e7%b5%8c%e5%96%b6%e3%82%bb%e3%83%9f%e3%83%8a%e3%83%bc-3
CATEGORIES:オープンセミナー
END:VEVENT
BEGIN:VEVENT
DTSTART;TZID=Asia/Tokyo:20240918T170000
DTEND;TZID=Asia/Tokyo:20240918T183000
DTSTAMP:20260420T170702
CREATED:20240606T063419Z
LAST-MODIFIED:20240606T063419Z
UID:3423-1726678800-1726684200@omniassociation.com
SUMMARY:ITサービスセミナー『CRM\,ロイヤルティ～アプリ・ミニアプリ・MAでロイヤルティをあげる。』
DESCRIPTION:一般参加可能！ 実践者から生の知見を学べるオープンセミナー\n \nオープンセミナーでは協会の活動内容報告のみならず、DXの推進を目的に開催しております。\n様々なDXの有識者お呼びし、生のDXの知見を聴き、話し合うことで、最高の刺激を受けることができる場です。 \n詳細は「DXマガジン」をご確認ください。
URL:https://omniassociation.com/event/it%e3%82%b5%e3%83%bc%e3%83%93%e3%82%b9%e3%82%bb%e3%83%9f%e3%83%8a%e3%83%bc%e3%80%8ecrm%e3%83%ad%e3%82%a4%e3%83%a4%e3%83%ab%e3%83%86%e3%82%a3%ef%bd%9e%e3%82%a2%e3%83%97%e3%83%aa%e3%83%bb%e3%83%9f
CATEGORIES:オープンセミナー
END:VEVENT
BEGIN:VEVENT
DTSTART;TZID=Asia/Tokyo:20240904T170000
DTEND;TZID=Asia/Tokyo:20240904T183000
DTSTAMP:20260420T170702
CREATED:20240606T065606Z
LAST-MODIFIED:20240606T065606Z
UID:3447-1725469200-1725474600@omniassociation.com
SUMMARY:DX経営セミナー
DESCRIPTION:一般参加可能！ 実践者から生の知見を学べるオープンセミナー\n \nオープンセミナーでは協会の活動内容報告のみならず、DXの推進を目的に開催しております。\n様々なDXの有識者お呼びし、生のDXの知見を聴き、話し合うことで、最高の刺激を受けることができる場です。 \n詳細は「DXマガジン」をご確認ください。
URL:https://omniassociation.com/event/dx%e7%b5%8c%e5%96%b6%e3%82%bb%e3%83%9f%e3%83%8a%e3%83%bc-2
CATEGORIES:オープンセミナー
END:VEVENT
BEGIN:VEVENT
DTSTART;TZID=Asia/Tokyo:20240826T170000
DTEND;TZID=Asia/Tokyo:20240826T183000
DTSTAMP:20260420T170702
CREATED:20240606T063844Z
LAST-MODIFIED:20240606T063844Z
UID:3431-1724691600-1724697000@omniassociation.com
SUMMARY:DX実践セミナー『チームビルディング分科会：現場の組織力こそDXの要（仮）』
DESCRIPTION:一般参加可能！ 実践者から生の知見を学べるオープンセミナー\n \nオープンセミナーでは協会の活動内容報告のみならず、DXの推進を目的に開催しております。\n様々なDXの有識者お呼びし、生のDXの知見を聴き、話し合うことで、最高の刺激を受けることができる場です。 \n詳細は「DXマガジン」をご確認ください。
URL:https://omniassociation.com/event/dx%e5%ae%9f%e8%b7%b5%e3%82%bb%e3%83%9f%e3%83%8a%e3%83%bc%e3%80%8e%e3%83%81%e3%83%bc%e3%83%a0%e3%83%93%e3%83%ab%e3%83%87%e3%82%a3%e3%83%b3%e3%82%b0%e5%88%86%e7%a7%91%e4%bc%9a%ef%bc%9a%e7%8f%be%e5%a0%b4
CATEGORIES:オープンセミナー
END:VEVENT
BEGIN:VEVENT
DTSTART;TZID=Asia/Tokyo:20240807T170000
DTEND;TZID=Asia/Tokyo:20240807T183000
DTSTAMP:20260420T170702
CREATED:20240606T065531Z
LAST-MODIFIED:20240606T065531Z
UID:3445-1723050000-1723055400@omniassociation.com
SUMMARY:DX経営セミナー
DESCRIPTION:一般参加可能！ 実践者から生の知見を学べるオープンセミナー\n \nオープンセミナーでは協会の活動内容報告のみならず、DXの推進を目的に開催しております。\n様々なDXの有識者お呼びし、生のDXの知見を聴き、話し合うことで、最高の刺激を受けることができる場です。 \n詳細は「DXマガジン」をご確認ください。
URL:https://omniassociation.com/event/dx%e7%b5%8c%e5%96%b6%e3%82%bb%e3%83%9f%e3%83%8a%e3%83%bc
CATEGORIES:オープンセミナー
END:VEVENT
BEGIN:VEVENT
DTSTART;TZID=Asia/Tokyo:20240717T170000
DTEND;TZID=Asia/Tokyo:20240717T183000
DTSTAMP:20260420T170702
CREATED:20240606T063310Z
LAST-MODIFIED:20240606T063310Z
UID:3421-1721235600-1721241000@omniassociation.com
SUMMARY:ITサービスセミナー『激動のAIの最新ソリューション及び、活用事例を学ぶ』
DESCRIPTION:一般参加可能！ 実践者から生の知見を学べるオープンセミナー\n \nオープンセミナーでは協会の活動内容報告のみならず、DXの推進を目的に開催しております。\n様々なDXの有識者お呼びし、生のDXの知見を聴き、話し合うことで、最高の刺激を受けることができる場です。 \n詳細は「DXマガジン」をご確認ください。
URL:https://omniassociation.com/event/it%e3%82%b5%e3%83%bc%e3%83%93%e3%82%b9%e3%82%bb%e3%83%9f%e3%83%8a%e3%83%bc%e3%80%8e%e6%bf%80%e5%8b%95%e3%81%aeai%e3%81%ae%e6%9c%80%e6%96%b0%e3%82%bd%e3%83%aa%e3%83%a5%e3%83%bc%e3%82%b7%e3%83%a7
CATEGORIES:オープンセミナー
END:VEVENT
BEGIN:VEVENT
DTSTART;TZID=Asia/Tokyo:20240703T170000
DTEND;TZID=Asia/Tokyo:20240703T183000
DTSTAMP:20260420T170702
CREATED:20240606T065453Z
LAST-MODIFIED:20240606T065453Z
UID:3443-1720026000-1720031400@omniassociation.com
SUMMARY:DX経営セミナー『ベンチャーから何を学ぶか』
DESCRIPTION:一般参加可能！ 実践者から生の知見を学べるオープンセミナー\n \nオープンセミナーでは協会の活動内容報告のみならず、DXの推進を目的に開催しております。\n様々なDXの有識者お呼びし、生のDXの知見を聴き、話し合うことで、最高の刺激を受けることができる場です。 \n詳細は「DXマガジン」をご確認ください。
URL:https://omniassociation.com/event/dx%e7%b5%8c%e5%96%b6%e3%82%bb%e3%83%9f%e3%83%8a%e3%83%bc%e3%80%8e%e3%83%99%e3%83%b3%e3%83%81%e3%83%a3%e3%83%bc%e3%81%8b%e3%82%89%e4%bd%95%e3%82%92%e5%ad%a6%e3%81%b6%e3%81%8b%e3%80%8f
CATEGORIES:オープンセミナー
END:VEVENT
BEGIN:VEVENT
DTSTART;TZID=Asia/Tokyo:20240619T170000
DTEND;TZID=Asia/Tokyo:20240619T183000
DTSTAMP:20260420T170702
CREATED:20240606T063738Z
LAST-MODIFIED:20240606T063738Z
UID:3429-1718816400-1718821800@omniassociation.com
SUMMARY:DX実践セミナー『第1回NRF-APAC報告 アジアから目が離せない！』
DESCRIPTION:一般参加可能！ 実践者から生の知見を学べるオープンセミナー\n \nオープンセミナーでは協会の活動内容報告のみならず、DXの推進を目的に開催しております。\n様々なDXの有識者お呼びし、生のDXの知見を聴き、話し合うことで、最高の刺激を受けることができる場です。 \n詳細は「DXマガジン」をご確認ください。
URL:https://omniassociation.com/event/dx%e5%ae%9f%e8%b7%b5%e3%82%bb%e3%83%9f%e3%83%8a%e3%83%bc%e3%80%8e%e7%ac%ac1%e5%9b%9enrf-apac%e5%a0%b1%e5%91%8a-%e3%82%a2%e3%82%b8%e3%82%a2%e3%81%8b%e3%82%89%e7%9b%ae%e3%81%8c%e9%9b%a2%e3%81%9b
CATEGORIES:オープンセミナー
END:VEVENT
BEGIN:VEVENT
DTSTART;TZID=Asia/Tokyo:20240605T170000
DTEND;TZID=Asia/Tokyo:20240605T183000
DTSTAMP:20260420T170702
CREATED:20240606T065310Z
LAST-MODIFIED:20240606T065310Z
UID:3439-1717606800-1717612200@omniassociation.com
SUMMARY:DX経営セミナー『日本の大学経営の明日を考える』
DESCRIPTION:一般参加可能！ 実践者から生の知見を学べるオープンセミナー\n \nオープンセミナーでは協会の活動内容報告のみならず、DXの推進を目的に開催しております。\n様々なDXの有識者お呼びし、生のDXの知見を聴き、話し合うことで、最高の刺激を受けることができる場です。 \n詳細は「DXマガジン」をご確認ください。
URL:https://omniassociation.com/event/dx%e7%b5%8c%e5%96%b6%e3%82%bb%e3%83%9f%e3%83%8a%e3%83%bc%e3%80%8e%e6%97%a5%e6%9c%ac%e3%81%ae%e5%a4%a7%e5%ad%a6%e7%b5%8c%e5%96%b6%e3%81%ae%e6%98%8e%e6%97%a5%e3%82%92%e8%80%83%e3%81%88%e3%82%8b%e3%80%8f
CATEGORIES:オープンセミナー
END:VEVENT
BEGIN:VEVENT
DTSTART;TZID=Asia/Tokyo:20240523T173000
DTEND;TZID=Asia/Tokyo:20240523T190000
DTSTAMP:20260420T170702
CREATED:20240606T063011Z
LAST-MODIFIED:20240606T063118Z
UID:3417-1716485400-1716490800@omniassociation.com
SUMMARY:ITサービスセミナー『デジタルマーケ～クッキー規制後のWEB最適、集客、利便性向上を考える』
DESCRIPTION:一般参加可能！ 実践者から生の知見を学べるオープンセミナー\n \nオープンセミナーでは協会の活動内容報告のみならず、DXの推進を目的に開催しております。\n様々なDXの有識者お呼びし、生のDXの知見を聴き、話し合うことで、最高の刺激を受けることができる場です。 \n詳細は「DXマガジン」をご確認ください。
URL:https://omniassociation.com/event/it%e3%82%b5%e3%83%bc%e3%83%93%e3%82%b9%e3%82%bb%e3%83%9f%e3%83%8a%e3%83%bc%e3%80%8e%e3%83%87%e3%82%b8%e3%82%bf%e3%83%ab%e3%83%9e%e3%83%bc%e3%82%b1%ef%bd%9e%e3%82%af%e3%83%83%e3%82%ad%e3%83%bc%e8%a6%8f
CATEGORIES:オープンセミナー
END:VEVENT
BEGIN:VEVENT
DTSTART;TZID=Asia/Tokyo:20240508T170000
DTEND;TZID=Asia/Tokyo:20240508T183000
DTSTAMP:20260420T170702
CREATED:20240606T062836Z
LAST-MODIFIED:20240606T063040Z
UID:3415-1715187600-1715193000@omniassociation.com
SUMMARY:DX経営セミナー『「ヒト軸マーケティング」 の未来』
DESCRIPTION:一般参加可能！ 実践者から生の知見を学べるオープンセミナー\n \nオープンセミナーでは協会の活動内容報告のみならず、DXの推進を目的に開催しております。\n様々なDXの有識者お呼びし、生のDXの知見を聴き、話し合うことで、最高の刺激を受けることができる場です。 \n詳細は「DXマガジン」をご確認ください。
URL:https://omniassociation.com/event/dx%e5%ae%9f%e8%b7%b5%e3%82%bb%e3%83%9f%e3%83%8a%e3%83%bc%e3%80%8e%e3%80%8c%e3%83%92%e3%83%88%e8%bb%b8%e3%83%9e%e3%83%bc%e3%82%b1%e3%83%86%e3%82%a3%e3%83%b3%e3%82%b0%e3%80%8d-%e3%81%ae%e6%9c%aa
CATEGORIES:オープンセミナー
END:VEVENT
BEGIN:VEVENT
DTSTART;TZID=Asia/Tokyo:20240417T170000
DTEND;TZID=Asia/Tokyo:20240417T183000
DTSTAMP:20260420T170702
CREATED:20240606T050810Z
LAST-MODIFIED:20240606T050810Z
UID:3319-1713373200-1713378600@omniassociation.com
SUMMARY:DX実践セミナー『現場も経営も喜ぶリテールDX～地に足をつけたアプローチが、DX成功の近道～』
DESCRIPTION:一般参加可能！ 実践者から生の知見を学べるオープンセミナー\n \n　　　詳細は「DXマガジン」をご確認ください。
URL:https://omniassociation.com/event/dx%e5%ae%9f%e8%b7%b5%e3%82%bb%e3%83%9f%e3%83%8a%e3%83%bc%e3%80%8e%e7%8f%be%e5%a0%b4%e3%82%82%e7%b5%8c%e5%96%b6%e3%82%82%e5%96%9c%e3%81%b6%e3%83%aa%e3%83%86%e3%83%bc%e3%83%abdx%ef%bd%9e%e5%9c%b0-2
CATEGORIES:オープンセミナー
END:VEVENT
BEGIN:VEVENT
DTSTART;TZID=Asia/Tokyo:20240403T170000
DTEND;TZID=Asia/Tokyo:20240403T183000
DTSTAMP:20260420T170702
CREATED:20240606T050546Z
LAST-MODIFIED:20240606T050546Z
UID:3317-1712163600-1712169000@omniassociation.com
SUMMARY:DXセミナー『リジェネラティブ（再生）社会を考える』
DESCRIPTION:一般参加可能！ 実践者から生の知見を学べるオープンセミナー\n \n　　　詳細は「DXマガジン」をご確認ください。
URL:https://omniassociation.com/event/dx%e3%82%bb%e3%83%9f%e3%83%8a%e3%83%bc%e3%80%8e%e3%83%aa%e3%82%b8%e3%82%a7%e3%83%8d%e3%83%a9%e3%83%86%e3%82%a3%e3%83%96%ef%bc%88%e5%86%8d%e7%94%9f%ef%bc%89%e7%a4%be%e4%bc%9a%e3%82%92%e8%80%83%e3%81%88
CATEGORIES:オープンセミナー
END:VEVENT
END:VCALENDAR