BEGIN:VCALENDAR
VERSION:2.0
PRODID:-//日本オムニチャネル協会 - ECPv6.15.20//NONSGML v1.0//EN
CALSCALE:GREGORIAN
METHOD:PUBLISH
X-ORIGINAL-URL:https://omniassociation.com
X-WR-CALDESC:日本オムニチャネル協会 のイベント
REFRESH-INTERVAL;VALUE=DURATION:PT1H
X-Robots-Tag:noindex
X-PUBLISHED-TTL:PT1H
BEGIN:VTIMEZONE
TZID:Asia/Tokyo
BEGIN:STANDARD
TZOFFSETFROM:+0900
TZOFFSETTO:+0900
TZNAME:JST
DTSTART:20230101T000000
END:STANDARD
END:VTIMEZONE
BEGIN:VEVENT
DTSTART;TZID=Asia/Tokyo:20250226T080000
DTEND;TZID=Asia/Tokyo:20250226T170000
DTSTAMP:20260422T223051
CREATED:20240606T060854Z
LAST-MODIFIED:20240607T082246Z
UID:3399-1740556800-1740589200@omniassociation.com
SUMMARY:ステューデントアカデミー「リーダーの心得①」
DESCRIPTION:できる社会人の心構えを伝承！スチューデントアカデミー\n\n　　　 \n\n大学で学んだことが社会で通用する…それは本当でしょうか？社会に出る前に必要な「心構え」それを学ぶ場所がどんどん減ってきています。本当に必要なことを学べる場。それが”スチューデントアカデミー”です。大学生、大学院生、社会人１～３年生を対象に学生時代には習うことのできない“できる社会人”の心構えを講義形式で伝承していきます。\n \n  \n（※一般の方でもご参加いただけます。詳しい内容やお申込みはこちらからご確認ください。）
URL:https://omniassociation.com/event/%e3%82%b9%e3%83%86%e3%83%a5%e3%83%bc%e3%83%87%e3%83%b3%e3%83%88%e3%82%a2%e3%82%ab%e3%83%87%e3%83%9f%e3%83%bc%e3%80%8c%e3%83%aa%e3%83%bc%e3%83%80%e3%83%bc%e3%81%ae%e5%bf%83%e5%be%97%e2%91%a0%e3%80%8d
CATEGORIES:次世代育成アカデミー
END:VEVENT
BEGIN:VEVENT
DTSTART;TZID=Asia/Tokyo:20250213T170000
DTEND;TZID=Asia/Tokyo:20250213T183000
DTSTAMP:20260422T223051
CREATED:20240606T062127Z
LAST-MODIFIED:20240606T062127Z
UID:3412-1739466000-1739471400@omniassociation.com
SUMMARY:ITアカデミー「トラブルから学ぶプロジェクトマネジメント」
DESCRIPTION:ITリテラシー向上！ITアカデミー　　　IT会社の説明が難しく感じる方多いと思いますが、基本を押さえIT会社とコミュニケーションとれることを目指します。支援会社の若手にも有益です。\nまた各方面で活躍するゲストを招き、ITの基本やIT会社の本音を知ることで、​システム導入が目的はなく、システムを活用する術を学びます。 \n　　　最低限のITリテラシーを身につけ、DXを実践しつつITに詳しくなることができます。 \n（※会員の方のみご参加いただけます。詳しい内容等はこちらからご確認ください。）
URL:https://omniassociation.com/event/it%e3%82%a2%e3%82%ab%e3%83%87%e3%83%9f%e3%83%bc%e3%80%8c%e3%83%88%e3%83%a9%e3%83%96%e3%83%ab%e3%81%8b%e3%82%89%e5%ad%a6%e3%81%b6%e3%83%97%e3%83%ad%e3%82%b8%e3%82%a7%e3%82%af%e3%83%88%e3%83%9e%e3%83%8d
CATEGORIES:次世代育成アカデミー
END:VEVENT
BEGIN:VEVENT
DTSTART;TZID=Asia/Tokyo:20250129T163000
DTEND;TZID=Asia/Tokyo:20250129T180000
DTSTAMP:20260422T223051
CREATED:20240606T061143Z
LAST-MODIFIED:20240606T061143Z
UID:3401-1738168200-1738173600@omniassociation.com
SUMMARY:ベンチャーアカデミー「事業サイドとベンチャーで本音を語る」
DESCRIPTION:ベンチャーの可能性と成長を促進！ベンチャーアカデミー\n\n\n\n\n　　　日本及び社会の成長に向け、次世代を担う企業、人材他の育成する皆様を対象とし開催します。 \n　　　300社を超える大手企業や支援企業などの知見やネットワーク、さらには実際の業務や事業創造機会を協会を介して会員となっていただいた ベンチャー企業の皆様の成長を支援していくことが目的に、ベンチャーの可能性と成長を促進する​社会人が持つべき“型”を学び、 　　　優れた人材の育成し、社会とのつながりを持つことができます。 \n　　　リアルとオンラインのハイブリッド形式で開催し、アカデミー終了後はゲストを含め、ベンチャー経営者同士の交流ができます。（リアル参加者のみ） \n　（※会員の方のみご参加いただけます。詳しい内容等はこちらからご確認ください。）
URL:https://omniassociation.com/event/%e3%83%99%e3%83%b3%e3%83%81%e3%83%a3%e3%83%bc%e3%82%a2%e3%82%ab%e3%83%87%e3%83%9f%e3%83%bc%e3%80%8c%e4%ba%8b%e6%a5%ad%e3%82%b5%e3%82%a4%e3%83%89%e3%81%a8%e3%83%99%e3%83%b3%e3%83%81%e3%83%a3%e3%83%bc
CATEGORIES:次世代育成アカデミー
END:VEVENT
BEGIN:VEVENT
DTSTART;TZID=Asia/Tokyo:20241219T170000
DTEND;TZID=Asia/Tokyo:20241219T183000
DTSTAMP:20260422T223051
CREATED:20240606T060808Z
LAST-MODIFIED:20240606T075827Z
UID:3397-1734627600-1734633000@omniassociation.com
SUMMARY:ステューデントアカデミー「成長の心得②」
DESCRIPTION:できる社会人の心構えを伝承！スチューデントアカデミー\n\n　　　 \n\n \n大学で学んだことが社会で通用する…それは本当でしょうか？ \n社会に出る前に必要な「心構え」それを学ぶ場所がどんどん減ってきています。本当に必要なことを学べる場。それが”スチューデントアカデミー”です。 \n大学生、大学院生、社会人１～３年生を対象に学生時代には習うことのできない“できる社会人”の心構えを講義形式で伝承していきます。 \n  \n（※一般の方でもご参加いただけます。詳しい内容やお申込みはこちらからご確認ください。）
URL:https://omniassociation.com/event/%e3%82%b9%e3%83%86%e3%83%a5%e3%83%bc%e3%83%87%e3%83%b3%e3%83%88%e3%82%a2%e3%82%ab%e3%83%87%e3%83%9f%e3%83%bc%e3%80%8c%e6%88%90%e9%95%b7%e3%81%ae%e5%bf%83%e5%be%97%e2%91%a1%e3%80%8d
CATEGORIES:次世代育成アカデミー
END:VEVENT
BEGIN:VEVENT
DTSTART;TZID=Asia/Tokyo:20241212T170000
DTEND;TZID=Asia/Tokyo:20241212T183000
DTSTAMP:20260422T223051
CREATED:20240606T062043Z
LAST-MODIFIED:20240606T062043Z
UID:3410-1734022800-1734028200@omniassociation.com
SUMMARY:ITアカデミー「Saasの組み合わせによる業務改善」
DESCRIPTION:ITリテラシー向上！ITアカデミー　　　IT会社の説明が難しく感じる方多いと思いますが、基本を押さえIT会社とコミュニケーションとれることを目指します。支援会社の若手にも有益です。\nまた各方面で活躍するゲストを招き、ITの基本やIT会社の本音を知ることで、​システム導入が目的はなく、システムを活用する術を学びます。 \n　　　最低限のITリテラシーを身につけ、DXを実践しつつITに詳しくなることができます。 \n（※会員の方のみご参加いただけます。詳しい内容等はこちらからご確認ください。）
URL:https://omniassociation.com/event/it%e3%82%a2%e3%82%ab%e3%83%87%e3%83%9f%e3%83%bc%e3%80%8csaas%e3%81%ae%e7%b5%84%e3%81%bf%e5%90%88%e3%82%8f%e3%81%9b%e3%81%ab%e3%82%88%e3%82%8b%e6%a5%ad%e5%8b%99%e6%94%b9%e5%96%84%e3%80%8d
CATEGORIES:次世代育成アカデミー
END:VEVENT
BEGIN:VEVENT
DTSTART;TZID=Asia/Tokyo:20241127T163000
DTEND;TZID=Asia/Tokyo:20241127T180000
DTSTAMP:20260422T223051
CREATED:20240606T043339Z
LAST-MODIFIED:20240606T043339Z
UID:3301-1732725000-1732730400@omniassociation.com
SUMMARY:ベンチャーアカデミー「企業がベンチャーと共創する理由」
DESCRIPTION:ベンチャーの可能性と成長を促進！ベンチャーアカデミー\n\n\n\n\n\n\n　　　日本及び社会の成長に向け、次世代を担う企業、人材他の育成する皆様を対象とし開催します。 \n　　　300社を超える大手企業や支援企業などの知見やネットワーク、さらには実際の業務や事業創造機会を協会を介して会員となっていただいた\nベンチャー企業の皆様の成長を支援していくことが目的に、ベンチャーの可能性と成長を促進する​社会人が持つべき“型”を学び、\n　　　優れた人材の育成し、社会とのつながりを持つことができます。 \n　　　リアルとオンラインのハイブリッド形式で開催し、アカデミー終了後はゲストを含め、ベンチャー経営者同士の交流ができます。（リアル参加者のみ）\n\n \n　（※会員の方のみご参加いただけます。詳しい内容等はこちらからご確認ください。）\n\n 
URL:https://omniassociation.com/event/%e3%83%99%e3%83%b3%e3%83%81%e3%83%a3%e3%83%bc%e3%82%a2%e3%82%ab%e3%83%87%e3%83%9f%e3%83%bc%e3%80%8c%e4%bc%81%e6%a5%ad%e3%81%8c%e3%83%99%e3%83%b3%e3%83%81%e3%83%a3%e3%83%bc%e3%81%a8%e5%85%b1%e5%89%b5
CATEGORIES:次世代育成アカデミー
END:VEVENT
BEGIN:VEVENT
DTSTART;TZID=Asia/Tokyo:20241030T170000
DTEND;TZID=Asia/Tokyo:20241030T183000
DTSTAMP:20260422T223051
CREATED:20240606T060721Z
LAST-MODIFIED:20240606T060721Z
UID:3395-1730307600-1730313000@omniassociation.com
SUMMARY:ステューデントアカデミー「成長の心得①」
DESCRIPTION:できる社会人の心構えを伝承！スチューデントアカデミー\n\n　　　 \n\n\n \n大学で学んだことが社会で通用する…それは本当でしょうか？ \n社会に出る前に必要な「心構え」それを学ぶ場所がどんどん減ってきています。本当に必要なことを学べる場。それが”スチューデントアカデミー”です。 \n大学生、大学院生、社会人１～３年生を対象に学生時代には習うことのできない“できる社会人”の心構えを講義形式で伝承していきます。 \n  \n（※一般の方でもご参加いただけます。詳しい内容やお申込みはこちらからご確認ください。）
URL:https://omniassociation.com/event/%e3%82%b9%e3%83%86%e3%83%a5%e3%83%bc%e3%83%87%e3%83%b3%e3%83%88%e3%82%a2%e3%82%ab%e3%83%87%e3%83%9f%e3%83%bc%e3%80%8c%e6%88%90%e9%95%b7%e3%81%ae%e5%bf%83%e5%be%97%e2%91%a0%e3%80%8d
CATEGORIES:次世代育成アカデミー
END:VEVENT
BEGIN:VEVENT
DTSTART;TZID=Asia/Tokyo:20241003T170000
DTEND;TZID=Asia/Tokyo:20241003T183000
DTSTAMP:20260422T223051
CREATED:20240606T061953Z
LAST-MODIFIED:20240606T061953Z
UID:3408-1727974800-1727980200@omniassociation.com
SUMMARY:ITアカデミー「ベンダーの悩みから考えるRFP」
DESCRIPTION:ITリテラシー向上！ITアカデミー　　　IT会社の説明が難しく感じる方多いと思いますが、基本を押さえIT会社とコミュニケーションとれることを目指します。支援会社の若手にも有益です。\nまた各方面で活躍するゲストを招き、ITの基本やIT会社の本音を知ることで、​システム導入が目的はなく、システムを活用する術を学びます。 \n　　　最低限のITリテラシーを身につけ、DXを実践しつつITに詳しくなることができます。 \n（※会員の方のみご参加いただけます。詳しい内容等はこちらからご確認ください。）
URL:https://omniassociation.com/event/it%e3%82%a2%e3%82%ab%e3%83%87%e3%83%9f%e3%83%bc%e3%80%8c%e3%83%99%e3%83%b3%e3%83%80%e3%83%bc%e3%81%ae%e6%82%a9%e3%81%bf%e3%81%8b%e3%82%89%e8%80%83%e3%81%88%e3%82%8brfp%e3%80%8d
CATEGORIES:次世代育成アカデミー
END:VEVENT
BEGIN:VEVENT
DTSTART;TZID=Asia/Tokyo:20240925T163000
DTEND;TZID=Asia/Tokyo:20240925T180000
DTSTAMP:20260422T223051
CREATED:20240606T043507Z
LAST-MODIFIED:20240606T043507Z
UID:3303-1727281800-1727287200@omniassociation.com
SUMMARY:ベンチャーアカデミー「企業の取組と共創事例」
DESCRIPTION:ベンチャーの可能性と成長を促進！ベンチャーアカデミー\n\n\n\n\n\n\n　　　日本及び社会の成長に向け、次世代を担う企業、人材他の育成する皆様を対象とし開催します。 \n　　　300社を超える大手企業や支援企業などの知見やネットワーク、さらには実際の業務や事業創造機会を協会を介して会員となっていただいた\nベンチャー企業の皆様の成長を支援していくことが目的に、ベンチャーの可能性と成長を促進する​社会人が持つべき“型”を学び、\n　　　優れた人材の育成し、社会とのつながりを持つことができます。 \n　　　リアルとオンラインのハイブリッド形式で開催し、アカデミー終了後はゲストを含め、ベンチャー経営者同士の交流ができます。（リアル参加者のみ）\n\n \n　（※会員の方のみご参加いただけます。詳しい内容等はこちらからご確認ください。）\n\n 
URL:https://omniassociation.com/event/%e3%83%99%e3%83%b3%e3%83%81%e3%83%a3%e3%83%bc%e3%82%a2%e3%82%ab%e3%83%87%e3%83%9f%e3%83%bc%e3%80%8c%e4%bc%81%e6%a5%ad%e3%81%ae%e5%8f%96%e7%b5%84%e3%81%a8%e5%85%b1%e5%89%b5%e4%ba%8b%e4%be%8b%e3%80%8d
CATEGORIES:次世代育成アカデミー
END:VEVENT
BEGIN:VEVENT
DTSTART;TZID=Asia/Tokyo:20240828T170000
DTEND;TZID=Asia/Tokyo:20240828T183000
DTSTAMP:20260422T223051
CREATED:20240606T060628Z
LAST-MODIFIED:20240606T060628Z
UID:3393-1724864400-1724869800@omniassociation.com
SUMMARY:ステューデントアカデミー「仕事の心得②」
DESCRIPTION:できる社会人の心構えを伝承！スチューデントアカデミー\n\n　　　 \n\n\n \n大学で学んだことが社会で通用する…それは本当でしょうか？ \n社会に出る前に必要な「心構え」それを学ぶ場所がどんどん減ってきています。本当に必要なことを学べる場。それが”スチューデントアカデミー”です。 \n大学生、大学院生、社会人１～３年生を対象に学生時代には習うことのできない“できる社会人”の心構えを講義形式で伝承していきます。 \n  \n（※一般の方でもご参加いただけます。詳しい内容やお申込みはこちらからご確認ください。）
URL:https://omniassociation.com/event/%e3%82%b9%e3%83%86%e3%83%a5%e3%83%bc%e3%83%87%e3%83%b3%e3%83%88%e3%82%a2%e3%82%ab%e3%83%87%e3%83%9f%e3%83%bc%e3%80%8c%e4%bb%95%e4%ba%8b%e3%81%ae%e5%bf%83%e5%be%97%e2%91%a1%e3%80%8d
CATEGORIES:次世代育成アカデミー
END:VEVENT
BEGIN:VEVENT
DTSTART;TZID=Asia/Tokyo:20240808T170000
DTEND;TZID=Asia/Tokyo:20240808T183000
DTSTAMP:20260422T223051
CREATED:20240606T061714Z
LAST-MODIFIED:20240607T085108Z
UID:3406-1723136400-1723141800@omniassociation.com
SUMMARY:ITアカデミー「デジタルの力AIを体験」
DESCRIPTION:ITリテラシー向上！ITアカデミーIT会社の説明が難しく感じる方多いと思いますが、基本を押さえIT会社とコミュニケーションとれることを目指します。支援会社の若手にも有益です。\nまた各方面で活躍するゲストを招き、ITの基本やIT会社の本音を知ることで、​システム導入が目的はなく、システムを活用する術を学びます。 \n最低限のITリテラシーを身につけ、DXを実践しつつITに詳しくなることができます。 \n（※会員の方のみご参加いただけます。詳しい内容等はこちらからご確認ください。）
URL:https://omniassociation.com/event/it%e3%82%a2%e3%82%ab%e3%83%87%e3%83%9f%e3%83%bc%e3%80%8c%e3%83%87%e3%82%b8%e3%82%bf%e3%83%ab%e3%81%ae%e5%8a%9bai%e3%82%92%e4%bd%93%e9%a8%93%e3%80%8d
CATEGORIES:次世代育成アカデミー
END:VEVENT
BEGIN:VEVENT
DTSTART;TZID=Asia/Tokyo:20240724T163000
DTEND;TZID=Asia/Tokyo:20240724T180000
DTSTAMP:20260422T223051
CREATED:20240606T043614Z
LAST-MODIFIED:20240607T085017Z
UID:3305-1721838600-1721844000@omniassociation.com
SUMMARY:ベンチャーアカデミー「VC・CVCは何故投資しているのか？」
DESCRIPTION:ベンチャーの可能性と成長を促進！ベンチャーアカデミー\n\n\n\n\n\n\n\n\n\n\n\n\n\n\n\n\n日本及び社会の成長に向け、次世代を担う企業、人材他の育成する皆様を対象とし開催します。 \n300社を超える大手企業や支援企業などの知見やネットワーク、さらには実際の業務や事業創造機会を協会を介して会員となっていただいた ベンチャー企業の皆様の成長を支援していくことが目的に、ベンチャーの可能性と成長を促進する​社会人が持つべき“型”を学び、優れた人材の育成し、社会とのつながりを持つことができます。 \nリアルとオンラインのハイブリッド形式で開催し、アカデミー終了後はゲストを含め、ベンチャー経営者同士の交流ができます。（リアル参加者のみ） \n（※会員の方のみご参加いただけます。詳しい内容等はこちらからご確認ください。）
URL:https://omniassociation.com/event/%e3%83%99%e3%83%b3%e3%83%81%e3%83%a3%e3%83%bc%e3%82%a2%e3%82%ab%e3%83%87%e3%83%9f%e3%83%bc%e3%80%8cvc%e3%83%bbcvc%e3%81%af%e4%bd%95%e6%95%85%e6%8a%95%e8%b3%87%e3%81%97%e3%81%a6%e3%81%84%e3%82%8b
CATEGORIES:次世代育成アカデミー
END:VEVENT
BEGIN:VEVENT
DTSTART;TZID=Asia/Tokyo:20240626T170000
DTEND;TZID=Asia/Tokyo:20240626T183000
DTSTAMP:20260422T223051
CREATED:20240606T060537Z
LAST-MODIFIED:20240606T074820Z
UID:3389-1719421200-1719426600@omniassociation.com
SUMMARY:ステューデントアカデミー「仕事の心得①」
DESCRIPTION:できる社会人の心構えを伝承！スチューデントアカデミー\n\n　　　 \n\n \n大学で学んだことが社会で通用する…それは本当でしょうか？ \n社会に出る前に必要な「心構え」それを学ぶ場所がどんどん減ってきています。本当に必要なことを学べる場。それが”スチューデントアカデミー”です。 \n大学生、大学院生、社会人１～３年生を対象に学生時代には習うことのできない“できる社会人”の心構えを講義形式で伝承していきます。 \n  \n（※一般の方でもご参加いただけます。詳しい内容やお申込みはこちらからご確認ください。）
URL:https://omniassociation.com/event/%e3%82%b9%e3%83%86%e3%83%a5%e3%83%bc%e3%83%87%e3%83%b3%e3%83%88%e3%82%a2%e3%82%ab%e3%83%87%e3%83%9f%e3%83%bc%e3%80%8c%e4%bb%95%e4%ba%8b%e3%81%ae%e5%bf%83%e5%be%97%e2%91%a0%e3%80%8d
CATEGORIES:次世代育成アカデミー
END:VEVENT
BEGIN:VEVENT
DTSTART;TZID=Asia/Tokyo:20240606T170000
DTEND;TZID=Asia/Tokyo:20240606T183000
DTSTAMP:20260422T223051
CREATED:20240606T061621Z
LAST-MODIFIED:20240607T084514Z
UID:3403-1717693200-1717698600@omniassociation.com
SUMMARY:ITアカデミー「入門～役割・データ・仕事の流れ等」
DESCRIPTION:ITリテラシー向上！ITアカデミーIT会社の説明が難しく感じる方多いと思いますが、基本を押さえIT会社とコミュニケーションとれることを目指します。支援会社の若手にも有益です。\nまた各方面で活躍するゲストを招き、ITの基本やIT会社の本音を知ることで、​システム導入が目的はなく、システムを活用する術を学びます。 \n最低限のITリテラシーを身につけ、DXを実践しつつITに詳しくなることができます。 \n（※会員の方のみご参加いただけます。詳しい内容等はこちらからご確認ください。）
URL:https://omniassociation.com/event/it%e3%82%a2%e3%82%ab%e3%83%87%e3%83%9f%e3%83%bc%e3%80%8c%e5%85%a5%e9%96%80%ef%bd%9e%e5%bd%b9%e5%89%b2%e3%83%bb%e3%83%87%e3%83%bc%e3%82%bf%e3%83%bb%e4%bb%95%e4%ba%8b%e3%81%ae%e6%b5%81%e3%82%8c%e7%ad%89
CATEGORIES:次世代育成アカデミー
END:VEVENT
BEGIN:VEVENT
DTSTART;TZID=Asia/Tokyo:20240529T163000
DTEND;TZID=Asia/Tokyo:20240529T180000
DTSTAMP:20260422T223051
CREATED:20240606T043712Z
LAST-MODIFIED:20240607T084346Z
UID:3307-1717000200-1717005600@omniassociation.com
SUMMARY:ベンチャーアカデミー「協会がベンチャーに期待・ 貢献できること」
DESCRIPTION:ベンチャーの可能性と成長を促進！ベンチャーアカデミー\n\n\n\n\n\n\n\n\n\n\n\n\n\n\n\n\n日本及び社会の成長に向け、次世代を担う企業、人材他の育成する皆様を対象とし開催します。 \n300社を超える大手企業や支援企業などの知見やネットワーク、さらには実際の業務や事業創造機会を協会を介して会員となっていただいた ベンチャー企業の皆様の成長を支援していくことが目的に、ベンチャーの可能性と成長を促進する​社会人が持つべき“型”を学び、優れた人材の育成し、社会とのつながりを持つことができます。 \nリアルとオンラインのハイブリッド形式で開催し、アカデミー終了後はゲストを含め、ベンチャー経営者同士の交流ができます。（リアル参加者のみ） \n（※会員の方のみご参加いただけます。詳しい内容等はこちらからご確認ください。）
URL:https://omniassociation.com/event/%e3%83%99%e3%83%b3%e3%83%81%e3%83%a3%e3%83%bc%e3%82%a2%e3%82%ab%e3%83%87%e3%83%9f%e3%83%bc%e3%80%8c%e5%8d%94%e4%bc%9a%e3%81%8c%e3%83%99%e3%83%b3%e3%83%81%e3%83%a3%e3%83%bc%e3%81%ab%e6%9c%9f%e5%be%85
CATEGORIES:次世代育成アカデミー
END:VEVENT
END:VCALENDAR